BEGIN:VCALENDAR
VERSION:2.0
PRODID:-//MOOG Barcelona - ECPv6.15.17.1//NONSGML v1.0//EN
CALSCALE:GREGORIAN
METHOD:PUBLISH
X-WR-CALNAME:MOOG Barcelona
X-ORIGINAL-URL:https://moogbarcelona.com
X-WR-CALDESC:Esdeveniments per MOOG Barcelona
REFRESH-INTERVAL;VALUE=DURATION:PT1H
X-Robots-Tag:noindex
X-PUBLISHED-TTL:PT1H
BEGIN:VTIMEZONE
TZID:Europe/Madrid
BEGIN:DAYLIGHT
TZOFFSETFROM:+0100
TZOFFSETTO:+0200
TZNAME:CEST
DTSTART:20250330T010000
END:DAYLIGHT
BEGIN:STANDARD
TZOFFSETFROM:+0200
TZOFFSETTO:+0100
TZNAME:CET
DTSTART:20251026T010000
END:STANDARD
BEGIN:DAYLIGHT
TZOFFSETFROM:+0100
TZOFFSETTO:+0200
TZNAME:CEST
DTSTART:20260329T010000
END:DAYLIGHT
BEGIN:STANDARD
TZOFFSETFROM:+0200
TZOFFSETTO:+0100
TZNAME:CET
DTSTART:20261025T010000
END:STANDARD
BEGIN:DAYLIGHT
TZOFFSETFROM:+0100
TZOFFSETTO:+0200
TZNAME:CEST
DTSTART:20270328T010000
END:DAYLIGHT
BEGIN:STANDARD
TZOFFSETFROM:+0200
TZOFFSETTO:+0100
TZNAME:CET
DTSTART:20271031T010000
END:STANDARD
END:VTIMEZONE
BEGIN:VEVENT
DTSTART;TZID=Europe/Madrid:20260421T235900
DTEND;TZID=Europe/Madrid:20260422T050000
DTSTAMP:20260421T123101
CREATED:20260316T122044Z
LAST-MODIFIED:20260420T135212Z
UID:10001367-1776815940-1776834000@moogbarcelona.com
SUMMARY:Rubén Seoane
DESCRIPTION:
URL:https://moogbarcelona.com/esdeveniment/ruben-seoane-2-3-2/
LOCATION:Moog Barcelona\, Carrer Arc del Teatre 3\, El Raval\, Ciutat Vella\, Barcelona\, 08002\, Spain
ATTACH;FMTTYPE=image/jpeg:https://moogbarcelona.com/wp-content/uploads/2025/07/dj-ruben-seoane-resident-2.jpg
END:VEVENT
BEGIN:VEVENT
DTSTART;TZID=Europe/Madrid:20260422T235900
DTEND;TZID=Europe/Madrid:20260423T050000
DTSTAMP:20260421T123101
CREATED:20260316T122343Z
LAST-MODIFIED:20260420T135322Z
UID:10001370-1776902340-1776920400@moogbarcelona.com
SUMMARY:ANA RS + Uroz
DESCRIPTION:
URL:https://moogbarcelona.com/esdeveniment/ana-rs-uroz/
LOCATION:Moog Barcelona\, Carrer Arc del Teatre 3\, El Raval\, Ciutat Vella\, Barcelona\, 08002\, Spain
ATTACH;FMTTYPE=image/jpeg:https://moogbarcelona.com/wp-content/uploads/2026/03/ana-rs-scaled.jpeg
END:VEVENT
BEGIN:VEVENT
DTSTART;TZID=Europe/Madrid:20260423T235900
DTEND;TZID=Europe/Madrid:20260424T050000
DTSTAMP:20260421T123101
CREATED:20260316T122624Z
LAST-MODIFIED:20260420T135421Z
UID:10001373-1776988740-1777006800@moogbarcelona.com
SUMMARY:Bambi
DESCRIPTION:
URL:https://moogbarcelona.com/esdeveniment/bambi-1/
LOCATION:Moog Barcelona\, Carrer Arc del Teatre 3\, El Raval\, Ciutat Vella\, Barcelona\, 08002\, Spain
ATTACH;FMTTYPE=image/jpeg:https://moogbarcelona.com/wp-content/uploads/2025/02/destacada-moog-2.jpg
END:VEVENT
BEGIN:VEVENT
DTSTART;TZID=Europe/Madrid:20260424T235900
DTEND;TZID=Europe/Madrid:20260425T060000
DTSTAMP:20260421T123101
CREATED:20260316T122956Z
LAST-MODIFIED:20260420T135536Z
UID:10001376-1777075140-1777096800@moogbarcelona.com
SUMMARY:Men (L-Men-T)
DESCRIPTION:
URL:https://moogbarcelona.com/esdeveniment/men-l-men-t-1-2/
LOCATION:Moog Barcelona\, Carrer Arc del Teatre 3\, El Raval\, Ciutat Vella\, Barcelona\, 08002\, Spain
ATTACH;FMTTYPE=image/png:https://moogbarcelona.com/wp-content/uploads/2022/04/24-abril-men-moog-club.png
END:VEVENT
BEGIN:VEVENT
DTSTART;TZID=Europe/Madrid:20260425T235900
DTEND;TZID=Europe/Madrid:20260426T060000
DTSTAMP:20260421T123101
CREATED:20260316T123421Z
LAST-MODIFIED:20260420T141245Z
UID:10001379-1777161540-1777183200@moogbarcelona.com
SUMMARY:Javi Gon
DESCRIPTION:
URL:https://moogbarcelona.com/esdeveniment/javi-gon-2/
LOCATION:Moog Barcelona\, Carrer Arc del Teatre 3\, El Raval\, Ciutat Vella\, Barcelona\, 08002\, Spain
ATTACH;FMTTYPE=image/jpeg:https://moogbarcelona.com/wp-content/uploads/2025/05/dj-javi-gon-resident-5.jpg
END:VEVENT
BEGIN:VEVENT
DTSTART;TZID=Europe/Madrid:20260426T235900
DTEND;TZID=Europe/Madrid:20260427T050000
DTSTAMP:20260421T123101
CREATED:20260316T124526Z
LAST-MODIFIED:20260420T141543Z
UID:10001382-1777247940-1777266000@moogbarcelona.com
SUMMARY:Carol Nyx
DESCRIPTION:
URL:https://moogbarcelona.com/esdeveniment/carol-nyx-2-3-3/
LOCATION:Moog Barcelona\, Carrer Arc del Teatre 3\, El Raval\, Ciutat Vella\, Barcelona\, 08002\, Spain
ATTACH;FMTTYPE=image/jpeg:https://moogbarcelona.com/wp-content/uploads/2024/03/destacada-moog-8.jpg
END:VEVENT
BEGIN:VEVENT
DTSTART;TZID=Europe/Madrid:20260427T235900
DTEND;TZID=Europe/Madrid:20260428T050000
DTSTAMP:20260421T123101
CREATED:20260316T124806Z
LAST-MODIFIED:20260421T092413Z
UID:10001385-1777334340-1777352400@moogbarcelona.com
SUMMARY:Uroz
DESCRIPTION:
URL:https://moogbarcelona.com/esdeveniment/uroz-2-2/
LOCATION:Moog Barcelona\, Carrer Arc del Teatre 3\, El Raval\, Ciutat Vella\, Barcelona\, 08002\, Spain
ATTACH;FMTTYPE=image/jpeg:https://moogbarcelona.com/wp-content/uploads/2023/06/destacada-moog-12.jpg
END:VEVENT
BEGIN:VEVENT
DTSTART;TZID=Europe/Madrid:20260428T235900
DTEND;TZID=Europe/Madrid:20260429T050000
DTSTAMP:20260421T123101
CREATED:20260316T125230Z
LAST-MODIFIED:20260421T092713Z
UID:10001388-1777420740-1777438800@moogbarcelona.com
SUMMARY:Men (L-Men-T)
DESCRIPTION:
URL:https://moogbarcelona.com/esdeveniment/men-l-men-t-1-3/
LOCATION:Moog Barcelona\, Carrer Arc del Teatre 3\, El Raval\, Ciutat Vella\, Barcelona\, 08002\, Spain
ATTACH;FMTTYPE=image/png:https://moogbarcelona.com/wp-content/uploads/2022/04/24-abril-men-moog-club.png
END:VEVENT
BEGIN:VEVENT
DTSTART;TZID=Europe/Madrid:20260429T235900
DTEND;TZID=Europe/Madrid:20260430T050000
DTSTAMP:20260421T123101
CREATED:20260316T125703Z
LAST-MODIFIED:20260421T093039Z
UID:10001391-1777507140-1777525200@moogbarcelona.com
SUMMARY:Ksenia Kamikaza + Serkin (Hybrid Dj Set)
DESCRIPTION:
URL:https://moogbarcelona.com/esdeveniment/ksenia-kamikaza-serkin/
LOCATION:Moog Barcelona\, Carrer Arc del Teatre 3\, El Raval\, Ciutat Vella\, Barcelona\, 08002\, Spain
ATTACH;FMTTYPE=image/jpeg:https://moogbarcelona.com/wp-content/uploads/2026/03/F-1-8795-1-scaled.jpg
END:VEVENT
BEGIN:VEVENT
DTSTART;TZID=Europe/Madrid:20260430T235900
DTEND;TZID=Europe/Madrid:20260501T050000
DTSTAMP:20260421T123101
CREATED:20260316T130007Z
LAST-MODIFIED:20260421T093308Z
UID:10001394-1777593540-1777611600@moogbarcelona.com
SUMMARY:MOOG HISTORY: UROZ
DESCRIPTION:
URL:https://moogbarcelona.com/esdeveniment/moog-history-undo-uroz/
LOCATION:Moog Barcelona\, Carrer Arc del Teatre 3\, El Raval\, Ciutat Vella\, Barcelona\, 08002\, Spain
ATTACH;FMTTYPE=image/jpeg:https://moogbarcelona.com/wp-content/uploads/2025/07/dj-uroz-resident-2.jpg
END:VEVENT
BEGIN:VEVENT
DTSTART;TZID=Europe/Madrid:20260501T235900
DTEND;TZID=Europe/Madrid:20260502T060000
DTSTAMP:20260421T123101
CREATED:20260409T093055Z
LAST-MODIFIED:20260421T093619Z
UID:10001397-1777679940-1777701600@moogbarcelona.com
SUMMARY:RABENT
DESCRIPTION:
URL:https://moogbarcelona.com/esdeveniment/rabent-4/
LOCATION:Moog Barcelona\, Carrer Arc del Teatre 3\, El Raval\, Ciutat Vella\, Barcelona\, 08002\, Spain
ATTACH;FMTTYPE=image/jpeg:https://moogbarcelona.com/wp-content/uploads/2020/02/rabent.jpg
END:VEVENT
BEGIN:VEVENT
DTSTART;TZID=Europe/Madrid:20260502T235900
DTEND;TZID=Europe/Madrid:20260503T060000
DTSTAMP:20260421T123101
CREATED:20260409T093441Z
LAST-MODIFIED:20260421T093840Z
UID:10001400-1777766340-1777788000@moogbarcelona.com
SUMMARY:Javi Gon
DESCRIPTION:
URL:https://moogbarcelona.com/esdeveniment/javi-gon-02-05/
LOCATION:Moog Barcelona\, Carrer Arc del Teatre 3\, El Raval\, Ciutat Vella\, Barcelona\, 08002\, Spain
ATTACH;FMTTYPE=image/jpeg:https://moogbarcelona.com/wp-content/uploads/2025/05/dj-javi-gon-resident-5.jpg
END:VEVENT
BEGIN:VEVENT
DTSTART;TZID=Europe/Madrid:20260503T235900
DTEND;TZID=Europe/Madrid:20260504T050000
DTSTAMP:20260421T123101
CREATED:20260409T094421Z
LAST-MODIFIED:20260421T094240Z
UID:10001403-1777852740-1777870800@moogbarcelona.com
SUMMARY:Carol Nyx
DESCRIPTION:
URL:https://moogbarcelona.com/esdeveniment/carol-nyx-03-05/
LOCATION:Moog Barcelona\, Carrer Arc del Teatre 3\, El Raval\, Ciutat Vella\, Barcelona\, 08002\, Spain
ATTACH;FMTTYPE=image/jpeg:https://moogbarcelona.com/wp-content/uploads/2024/03/destacada-moog-8.jpg
END:VEVENT
BEGIN:VEVENT
DTSTART;TZID=Europe/Madrid:20260504T235900
DTEND;TZID=Europe/Madrid:20260505T050000
DTSTAMP:20260421T123101
CREATED:20260409T095001Z
LAST-MODIFIED:20260421T094415Z
UID:10001406-1777939140-1777957200@moogbarcelona.com
SUMMARY:Uroz
DESCRIPTION:
URL:https://moogbarcelona.com/esdeveniment/uroz-04-05/
LOCATION:Moog Barcelona\, Carrer Arc del Teatre 3\, El Raval\, Ciutat Vella\, Barcelona\, 08002\, Spain
ATTACH;FMTTYPE=image/jpeg:https://moogbarcelona.com/wp-content/uploads/2023/06/destacada-moog-12.jpg
END:VEVENT
BEGIN:VEVENT
DTSTART;TZID=Europe/Madrid:20260505T235900
DTEND;TZID=Europe/Madrid:20260506T050000
DTSTAMP:20260421T123101
CREATED:20260409T095617Z
LAST-MODIFIED:20260421T094522Z
UID:10001409-1778025540-1778043600@moogbarcelona.com
SUMMARY:Rubén Seoane
DESCRIPTION:
URL:https://moogbarcelona.com/esdeveniment/ruben-seoane-05-05/
LOCATION:Moog Barcelona\, Carrer Arc del Teatre 3\, El Raval\, Ciutat Vella\, Barcelona\, 08002\, Spain
ATTACH;FMTTYPE=image/jpeg:https://moogbarcelona.com/wp-content/uploads/2025/07/dj-ruben-seoane-resident-2.jpg
END:VEVENT
BEGIN:VEVENT
DTSTART;TZID=Europe/Madrid:20260506T235900
DTEND;TZID=Europe/Madrid:20260507T050000
DTSTAMP:20260421T123101
CREATED:20260409T100152Z
LAST-MODIFIED:20260421T094634Z
UID:10001412-1778111940-1778130000@moogbarcelona.com
SUMMARY:THE ADVENT + MEN
DESCRIPTION:
URL:https://moogbarcelona.com/esdeveniment/the-advent-men/
LOCATION:Moog Barcelona\, Carrer Arc del Teatre 3\, El Raval\, Ciutat Vella\, Barcelona\, 08002\, Spain
ATTACH;FMTTYPE=image/jpeg:https://moogbarcelona.com/wp-content/uploads/2026/04/02.21.-The-Advent-by-Marie-Staggat-scaled.jpg
END:VEVENT
BEGIN:VEVENT
DTSTART;TZID=Europe/Madrid:20260507T235900
DTEND;TZID=Europe/Madrid:20260508T050000
DTSTAMP:20260421T123101
CREATED:20260409T111116Z
LAST-MODIFIED:20260421T095917Z
UID:10001415-1778198340-1778216400@moogbarcelona.com
SUMMARY:LZZTTO
DESCRIPTION:LZZTTO
URL:https://moogbarcelona.com/esdeveniment/lzztto-07-05/
LOCATION:Moog Barcelona\, Carrer Arc del Teatre 3\, El Raval\, Ciutat Vella\, Barcelona\, 08002\, Spain
ATTACH;FMTTYPE=image/jpeg:https://moogbarcelona.com/wp-content/uploads/2025/07/LZZTTO-08--scaled.jpg
END:VEVENT
BEGIN:VEVENT
DTSTART;TZID=Europe/Madrid:20260508T235900
DTEND;TZID=Europe/Madrid:20260509T060000
DTSTAMP:20260421T123101
CREATED:20260409T111521Z
LAST-MODIFIED:20260421T100029Z
UID:10001418-1778284740-1778306400@moogbarcelona.com
SUMMARY:NIZ
DESCRIPTION:
URL:https://moogbarcelona.com/esdeveniment/niz/
LOCATION:Moog Barcelona\, Carrer Arc del Teatre 3\, El Raval\, Ciutat Vella\, Barcelona\, 08002\, Spain
ATTACH;FMTTYPE=image/png:https://moogbarcelona.com/wp-content/uploads/2019/12/9-septiembre-niz-moog-club.png
END:VEVENT
BEGIN:VEVENT
DTSTART;TZID=Europe/Madrid:20260509T235900
DTEND;TZID=Europe/Madrid:20260510T060000
DTSTAMP:20260421T123101
CREATED:20260409T115923Z
LAST-MODIFIED:20260421T100138Z
UID:10001421-1778371140-1778392800@moogbarcelona.com
SUMMARY:Javi Gon
DESCRIPTION:
URL:https://moogbarcelona.com/esdeveniment/javi-gon-09-05/
LOCATION:Moog Barcelona\, Carrer Arc del Teatre 3\, El Raval\, Ciutat Vella\, Barcelona\, 08002\, Spain
ATTACH;FMTTYPE=image/jpeg:https://moogbarcelona.com/wp-content/uploads/2025/05/dj-javi-gon-resident-5.jpg
END:VEVENT
BEGIN:VEVENT
DTSTART;TZID=Europe/Madrid:20260510T235900
DTEND;TZID=Europe/Madrid:20260511T050000
DTSTAMP:20260421T123101
CREATED:20260409T120919Z
LAST-MODIFIED:20260421T100255Z
UID:10001424-1778457540-1778475600@moogbarcelona.com
SUMMARY:Paco Santana + Carol Nyx
DESCRIPTION:
URL:https://moogbarcelona.com/esdeveniment/paco-santana-carol-nyx/
LOCATION:Moog Barcelona\, Carrer Arc del Teatre 3\, El Raval\, Ciutat Vella\, Barcelona\, 08002\, Spain
ATTACH;FMTTYPE=image/jpeg:https://moogbarcelona.com/wp-content/uploads/2026/04/MIM202603081851590_img_IMG_0505-e1775736807858.jpeg
END:VEVENT
BEGIN:VEVENT
DTSTART;TZID=Europe/Madrid:20260511T235900
DTEND;TZID=Europe/Madrid:20260512T050000
DTSTAMP:20260421T123101
CREATED:20260409T140550Z
LAST-MODIFIED:20260421T100406Z
UID:10001427-1778543940-1778562000@moogbarcelona.com
SUMMARY:Uroz
DESCRIPTION:
URL:https://moogbarcelona.com/esdeveniment/uroz-11-05/
LOCATION:Moog Barcelona\, Carrer Arc del Teatre 3\, El Raval\, Ciutat Vella\, Barcelona\, 08002\, Spain
ATTACH;FMTTYPE=image/jpeg:https://moogbarcelona.com/wp-content/uploads/2023/06/destacada-moog-12.jpg
END:VEVENT
BEGIN:VEVENT
DTSTART;TZID=Europe/Madrid:20260512T235900
DTEND;TZID=Europe/Madrid:20260513T050000
DTSTAMP:20260421T123101
CREATED:20260409T141932Z
LAST-MODIFIED:20260421T100709Z
UID:10001430-1778630340-1778648400@moogbarcelona.com
SUMMARY:Rubén Seoane
DESCRIPTION:
URL:https://moogbarcelona.com/esdeveniment/ruben-seoane-12-05/
LOCATION:Moog Barcelona\, Carrer Arc del Teatre 3\, El Raval\, Ciutat Vella\, Barcelona\, 08002\, Spain
ATTACH;FMTTYPE=image/jpeg:https://moogbarcelona.com/wp-content/uploads/2025/07/dj-ruben-seoane-resident-2.jpg
END:VEVENT
BEGIN:VEVENT
DTSTART;TZID=Europe/Madrid:20260513T235900
DTEND;TZID=Europe/Madrid:20260514T050000
DTSTAMP:20260421T123101
CREATED:20260410T065934Z
LAST-MODIFIED:20260421T101020Z
UID:10001431-1778716740-1778734800@moogbarcelona.com
SUMMARY:Thanos Hana + Serkin
DESCRIPTION:
URL:https://moogbarcelona.com/esdeveniment/thanos-hana-serkin/
LOCATION:Moog Barcelona\, Carrer Arc del Teatre 3\, El Raval\, Ciutat Vella\, Barcelona\, 08002\, Spain
ATTACH;FMTTYPE=image/jpeg:https://moogbarcelona.com/wp-content/uploads/2026/04/11___Thanos-Hana-2026-by-JUSTINE_ELLUL-scaled-e1775804655799.jpg
END:VEVENT
BEGIN:VEVENT
DTSTART;TZID=Europe/Madrid:20260514T235900
DTEND;TZID=Europe/Madrid:20260515T050000
DTSTAMP:20260421T123101
CREATED:20260410T071431Z
LAST-MODIFIED:20260421T101137Z
UID:10001437-1778803140-1778821200@moogbarcelona.com
SUMMARY:Bambi
DESCRIPTION:
URL:https://moogbarcelona.com/esdeveniment/bambi-14-05/
LOCATION:Moog Barcelona\, Carrer Arc del Teatre 3\, El Raval\, Ciutat Vella\, Barcelona\, 08002\, Spain
ATTACH;FMTTYPE=image/jpeg:https://moogbarcelona.com/wp-content/uploads/2025/02/destacada-moog-2.jpg
END:VEVENT
BEGIN:VEVENT
DTSTART;TZID=Europe/Madrid:20260515T235900
DTEND;TZID=Europe/Madrid:20260516T060000
DTSTAMP:20260421T123101
CREATED:20260410T074430Z
LAST-MODIFIED:20260421T101326Z
UID:10001440-1778889540-1778911200@moogbarcelona.com
SUMMARY:Men (L-Men-T)
DESCRIPTION:
URL:https://moogbarcelona.com/esdeveniment/men-l-men-t-15-05/
LOCATION:Moog Barcelona\, Carrer Arc del Teatre 3\, El Raval\, Ciutat Vella\, Barcelona\, 08002\, Spain
ATTACH;FMTTYPE=image/png:https://moogbarcelona.com/wp-content/uploads/2022/04/24-abril-men-moog-club.png
END:VEVENT
BEGIN:VEVENT
DTSTART;TZID=Europe/Madrid:20260516T235900
DTEND;TZID=Europe/Madrid:20260517T060000
DTSTAMP:20260421T123101
CREATED:20260410T075148Z
LAST-MODIFIED:20260421T101926Z
UID:10001443-1778975940-1778997600@moogbarcelona.com
SUMMARY:Javi Gon
DESCRIPTION:
URL:https://moogbarcelona.com/esdeveniment/javi-gon-16-05/
LOCATION:Moog Barcelona\, Carrer Arc del Teatre 3\, El Raval\, Ciutat Vella\, Barcelona\, 08002\, Spain
ATTACH;FMTTYPE=image/jpeg:https://moogbarcelona.com/wp-content/uploads/2025/05/dj-javi-gon-resident-5.jpg
END:VEVENT
BEGIN:VEVENT
DTSTART;TZID=Europe/Madrid:20260517T235900
DTEND;TZID=Europe/Madrid:20260518T050000
DTSTAMP:20260421T123101
CREATED:20260410T075653Z
LAST-MODIFIED:20260421T102047Z
UID:10001446-1779062340-1779080400@moogbarcelona.com
SUMMARY:Carol Nyx
DESCRIPTION:
URL:https://moogbarcelona.com/esdeveniment/carol-nyx-17-05/
LOCATION:Moog Barcelona\, Carrer Arc del Teatre 3\, El Raval\, Ciutat Vella\, Barcelona\, 08002\, Spain
ATTACH;FMTTYPE=image/jpeg:https://moogbarcelona.com/wp-content/uploads/2024/03/destacada-moog-8.jpg
END:VEVENT
BEGIN:VEVENT
DTSTART;TZID=Europe/Madrid:20260518T235900
DTEND;TZID=Europe/Madrid:20260519T050000
DTSTAMP:20260421T123101
CREATED:20260410T080043Z
LAST-MODIFIED:20260421T102321Z
UID:10001449-1779148740-1779166800@moogbarcelona.com
SUMMARY:Uroz
DESCRIPTION:
URL:https://moogbarcelona.com/esdeveniment/uroz-18-05/
LOCATION:Moog Barcelona\, Carrer Arc del Teatre 3\, El Raval\, Ciutat Vella\, Barcelona\, 08002\, Spain
ATTACH;FMTTYPE=image/jpeg:https://moogbarcelona.com/wp-content/uploads/2023/06/destacada-moog-12.jpg
END:VEVENT
BEGIN:VEVENT
DTSTART;TZID=Europe/Madrid:20260519T235900
DTEND;TZID=Europe/Madrid:20260520T050000
DTSTAMP:20260421T123101
CREATED:20260410T080600Z
LAST-MODIFIED:20260421T102444Z
UID:10001452-1779235140-1779253200@moogbarcelona.com
SUMMARY:Men (L-Men-T)
DESCRIPTION:
URL:https://moogbarcelona.com/esdeveniment/men-l-men-t-19-05/
LOCATION:Moog Barcelona\, Carrer Arc del Teatre 3\, El Raval\, Ciutat Vella\, Barcelona\, 08002\, Spain
ATTACH;FMTTYPE=image/png:https://moogbarcelona.com/wp-content/uploads/2022/04/24-abril-men-moog-club.png
END:VEVENT
BEGIN:VEVENT
DTSTART;TZID=Europe/Madrid:20260520T235900
DTEND;TZID=Europe/Madrid:20260521T050000
DTSTAMP:20260421T123101
CREATED:20260410T081334Z
LAST-MODIFIED:20260410T081453Z
UID:10001455-1779321540-1779339600@moogbarcelona.com
SUMMARY:NX1 + Rubén Seoane
DESCRIPTION:
URL:https://moogbarcelona.com/esdeveniment/nx1-ruben-seoane/
LOCATION:Moog Barcelona\, Carrer Arc del Teatre 3\, El Raval\, Ciutat Vella\, Barcelona\, 08002\, Spain
ATTACH;FMTTYPE=image/jpeg:https://moogbarcelona.com/wp-content/uploads/2026/04/4_LabeaSonic_NX1-17-scaled.jpg
END:VEVENT
END:VCALENDAR